BEGIN:VCALENDAR
VERSION:2.0
PRODID:-//OPTBANK - ECPv4.8.2//NONSGML v1.0//EN
CALSCALE:GREGORIAN
METHOD:PUBLISH
X-WR-CALNAME:OPTBANK
X-ORIGINAL-URL:https://optbank.org
X-WR-CALDESC:Events for OPTBANK
BEGIN:VEVENT
DTSTART;VALUE=DATE:20190924
DTEND;VALUE=DATE:20190928
DTSTAMP:20260420T103829
CREATED:20190909T045236Z
LAST-MODIFIED:20190924T041401Z
UID:537-1569283200-1569628799@optbank.org
SUMMARY:OptBank Mid-term Evaluation
DESCRIPTION: \n  \n
URL:https://optbank.org/event/optbank-mid-term-evaluation/
LOCATION:Royal Heritage Surakarta Hotel\, Surakarta\, Indonesia
CATEGORIES:Meeting
END:VEVENT
END:VCALENDAR