BEGIN:VCALENDAR
VERSION:2.0
PRODID:-//OPTBANK - ECPv4.8.2//NONSGML v1.0//EN
CALSCALE:GREGORIAN
METHOD:PUBLISH
X-WR-CALNAME:OPTBANK
X-ORIGINAL-URL:https://optbank.org
X-WR-CALDESC:Events for OPTBANK
BEGIN:VEVENT
DTSTART;TZID=Asia/Jakarta:20190603T080000
DTEND;TZID=Asia/Jakarta:20190610T170000
DTSTAMP:20260420T165312
CREATED:20190409T145600Z
LAST-MODIFIED:20190409T145600Z
UID:448-1559548800-1560186000@optbank.org
SUMMARY:OPTBank PhD Summer School in Limoges
DESCRIPTION:Six selected candidates will attend a summer school at the University of Limoges for 2 weeks in June 2019. Travel and subsistence expenses will be covered by the OPTBANK project co-funded by the Erasmus+ Programme of the European Union. \nRequirements \n\nDoctoral students in an Indonesian university. Priority will be given to those affiliated\nwith the following universities:\nUniversitas Sebelas Maret; Institut Teknologi Bandung; Universitas Islam Negeri Syarif Hidayatullah; Universitas Syiah Kuala; Universitas Sriwijaya; Universitas Tanjungpura\nNot more than 45 years old\nFluent in English (oral and written)\nExhibits strong interest in the field of banking and finance\nHas a compelling research proposal in the field of banking or finance\n\n
URL:https://optbank.org/event/optbank-phd-summer-school-in-limoges/
LOCATION:Université de Limoges\, Limoges\, France
END:VEVENT
END:VCALENDAR